BEGIN:VCALENDAR
VERSION:2.0
PRODID:-//Otfried Preußler Schule - ECPv6.15.20//NONSGML v1.0//EN
CALSCALE:GREGORIAN
METHOD:PUBLISH
X-ORIGINAL-URL:https://ops-badsoden.de
X-WR-CALDESC:Veranstaltungen für Otfried Preußler Schule
REFRESH-INTERVAL;VALUE=DURATION:PT1H
X-Robots-Tag:noindex
X-PUBLISHED-TTL:PT1H
BEGIN:VTIMEZONE
TZID:Europe/Berlin
BEGIN:DAYLIGHT
TZOFFSETFROM:+0100
TZOFFSETTO:+0200
TZNAME:CEST
DTSTART:20240331T010000
END:DAYLIGHT
BEGIN:STANDARD
TZOFFSETFROM:+0200
TZOFFSETTO:+0100
TZNAME:CET
DTSTART:20241027T010000
END:STANDARD
BEGIN:DAYLIGHT
TZOFFSETFROM:+0100
TZOFFSETTO:+0200
TZNAME:CEST
DTSTART:20250330T010000
END:DAYLIGHT
BEGIN:STANDARD
TZOFFSETFROM:+0200
TZOFFSETTO:+0100
TZNAME:CET
DTSTART:20251026T010000
END:STANDARD
BEGIN:DAYLIGHT
TZOFFSETFROM:+0100
TZOFFSETTO:+0200
TZNAME:CEST
DTSTART:20260329T010000
END:DAYLIGHT
BEGIN:STANDARD
TZOFFSETFROM:+0200
TZOFFSETTO:+0100
TZNAME:CET
DTSTART:20261025T010000
END:STANDARD
BEGIN:DAYLIGHT
TZOFFSETFROM:+0100
TZOFFSETTO:+0200
TZNAME:CEST
DTSTART:20270328T010000
END:DAYLIGHT
BEGIN:STANDARD
TZOFFSETFROM:+0200
TZOFFSETTO:+0100
TZNAME:CET
DTSTART:20271031T010000
END:STANDARD
END:VTIMEZONE
BEGIN:VEVENT
DTSTART;TZID=Europe/Berlin:20251201T092000
DTEND;TZID=Europe/Berlin:20251201T094000
DTSTAMP:20260421T110459
CREATED:20250822T061931Z
LAST-MODIFIED:20250822T061932Z
UID:3816-1764580800-1764582000@ops-badsoden.de
SUMMARY:Pausenspiele
DESCRIPTION:
URL:https://ops-badsoden.de/event/pausenspiele-44/
END:VEVENT
BEGIN:VEVENT
DTSTART;TZID=Europe/Berlin:20251212T092000
DTEND;TZID=Europe/Berlin:20251212T094000
DTSTAMP:20260421T110459
CREATED:20250822T061837Z
LAST-MODIFIED:20250822T061838Z
UID:3814-1765531200-1765532400@ops-badsoden.de
SUMMARY:Pausenspiele
DESCRIPTION:
URL:https://ops-badsoden.de/event/pausenspiele-43/
END:VEVENT
BEGIN:VEVENT
DTSTART;TZID=Europe/Berlin:20251222T000000
DTEND;TZID=Europe/Berlin:20260109T235959
DTSTAMP:20260421T110459
CREATED:20250501T121033Z
LAST-MODIFIED:20250501T121034Z
UID:3656-1766361600-1768003199@ops-badsoden.de
SUMMARY:Weihnachtsferien
DESCRIPTION:
URL:https://ops-badsoden.de/event/weihnachtsferien/
CATEGORIES:Allgemein Termine
END:VEVENT
END:VCALENDAR