BEGIN:VCALENDAR
VERSION:2.0
PRODID:-//Otfried Preußler Schule - ECPv6.15.20//NONSGML v1.0//EN
CALSCALE:GREGORIAN
METHOD:PUBLISH
X-ORIGINAL-URL:https://ops-badsoden.de
X-WR-CALDESC:Veranstaltungen für Otfried Preußler Schule
REFRESH-INTERVAL;VALUE=DURATION:PT1H
X-Robots-Tag:noindex
X-PUBLISHED-TTL:PT1H
BEGIN:VTIMEZONE
TZID:Europe/Berlin
BEGIN:DAYLIGHT
TZOFFSETFROM:+0100
TZOFFSETTO:+0200
TZNAME:CEST
DTSTART:20240331T010000
END:DAYLIGHT
BEGIN:STANDARD
TZOFFSETFROM:+0200
TZOFFSETTO:+0100
TZNAME:CET
DTSTART:20241027T010000
END:STANDARD
BEGIN:DAYLIGHT
TZOFFSETFROM:+0100
TZOFFSETTO:+0200
TZNAME:CEST
DTSTART:20250330T010000
END:DAYLIGHT
BEGIN:STANDARD
TZOFFSETFROM:+0200
TZOFFSETTO:+0100
TZNAME:CET
DTSTART:20251026T010000
END:STANDARD
BEGIN:DAYLIGHT
TZOFFSETFROM:+0100
TZOFFSETTO:+0200
TZNAME:CEST
DTSTART:20260329T010000
END:DAYLIGHT
BEGIN:STANDARD
TZOFFSETFROM:+0200
TZOFFSETTO:+0100
TZNAME:CET
DTSTART:20261025T010000
END:STANDARD
END:VTIMEZONE
BEGIN:VEVENT
DTSTART;TZID=Europe/Berlin:20251110T092000
DTEND;TZID=Europe/Berlin:20251110T094000
DTSTAMP:20260422T130326
CREATED:20250822T061341Z
LAST-MODIFIED:20250822T061342Z
UID:3812-1762766400-1762767600@ops-badsoden.de
SUMMARY:Pausenspiele
DESCRIPTION:
URL:https://ops-badsoden.de/event/pausenspiele-42/
END:VEVENT
BEGIN:VEVENT
DTSTART;TZID=Europe/Berlin:20251121T092000
DTEND;TZID=Europe/Berlin:20251121T094000
DTSTAMP:20260422T130326
CREATED:20250822T061216Z
LAST-MODIFIED:20250822T061217Z
UID:3808-1763716800-1763718000@ops-badsoden.de
SUMMARY:Pausenspiele
DESCRIPTION:
URL:https://ops-badsoden.de/event/pausenspiele-40/
END:VEVENT
BEGIN:VEVENT
DTSTART;TZID=Europe/Berlin:20251128T092000
DTEND;TZID=Europe/Berlin:20251128T094000
DTSTAMP:20260422T130326
CREATED:20250822T061301Z
LAST-MODIFIED:20250822T061302Z
UID:3810-1764321600-1764322800@ops-badsoden.de
SUMMARY:Pausenspiele
DESCRIPTION:
URL:https://ops-badsoden.de/event/pausenspiele-41/
END:VEVENT
END:VCALENDAR