BEGIN:VCALENDAR
VERSION:2.0
PRODID:-//Otfried Preußler Schule - ECPv6.15.20//NONSGML v1.0//EN
CALSCALE:GREGORIAN
METHOD:PUBLISH
X-ORIGINAL-URL:https://ops-badsoden.de
X-WR-CALDESC:Veranstaltungen für Otfried Preußler Schule
REFRESH-INTERVAL;VALUE=DURATION:PT1H
X-Robots-Tag:noindex
X-PUBLISHED-TTL:PT1H
BEGIN:VTIMEZONE
TZID:Europe/Berlin
BEGIN:DAYLIGHT
TZOFFSETFROM:+0100
TZOFFSETTO:+0200
TZNAME:CEST
DTSTART:20240331T010000
END:DAYLIGHT
BEGIN:STANDARD
TZOFFSETFROM:+0200
TZOFFSETTO:+0100
TZNAME:CET
DTSTART:20241027T010000
END:STANDARD
BEGIN:DAYLIGHT
TZOFFSETFROM:+0100
TZOFFSETTO:+0200
TZNAME:CEST
DTSTART:20250330T010000
END:DAYLIGHT
BEGIN:STANDARD
TZOFFSETFROM:+0200
TZOFFSETTO:+0100
TZNAME:CET
DTSTART:20251026T010000
END:STANDARD
BEGIN:DAYLIGHT
TZOFFSETFROM:+0100
TZOFFSETTO:+0200
TZNAME:CEST
DTSTART:20260329T010000
END:DAYLIGHT
BEGIN:STANDARD
TZOFFSETFROM:+0200
TZOFFSETTO:+0100
TZNAME:CET
DTSTART:20261025T010000
END:STANDARD
END:VTIMEZONE
BEGIN:VEVENT
DTSTART;TZID=Europe/Berlin:20250707T000000
DTEND;TZID=Europe/Berlin:20250815T235959
DTSTAMP:20260422T144509
CREATED:20240714T061155Z
LAST-MODIFIED:20240714T061155Z
UID:3174-1751846400-1755302399@ops-badsoden.de
SUMMARY:Sommerferien
DESCRIPTION:
URL:https://ops-badsoden.de/event/sommerferien-2/
CATEGORIES:Allgemein Termine
END:VEVENT
BEGIN:VEVENT
DTSTART;TZID=Europe/Berlin:20250819T084500
DTEND;TZID=Europe/Berlin:20250819T093000
DTSTAMP:20260422T144509
CREATED:20250812T151946Z
LAST-MODIFIED:20250812T151946Z
UID:3763-1755593100-1755595800@ops-badsoden.de
SUMMARY:Einschulungsgottesdienst
DESCRIPTION:
URL:https://ops-badsoden.de/event/einschulungsgottesdienst/
END:VEVENT
BEGIN:VEVENT
DTSTART;TZID=Europe/Berlin:20250819T101500
DTEND;TZID=Europe/Berlin:20250819T120000
DTSTAMP:20260422T144509
CREATED:20250812T152054Z
LAST-MODIFIED:20250812T152055Z
UID:3765-1755598500-1755604800@ops-badsoden.de
SUMMARY:Einschulung
DESCRIPTION:
URL:https://ops-badsoden.de/event/einschulung-2/
END:VEVENT
END:VCALENDAR